BEGIN:VCALENDAR
VERSION:2.0
PRODID:-//wp-events-plugin.com//5.99912//EN
TZID:Europe/Berlin
X-WR-TIMEZONE:Europe/Berlin
BEGIN:VEVENT
UID:1-10911@albverein.net
DTSTART;TZID=Europe/Berlin:20260718T170000
DTEND;TZID=Europe/Berlin:20260718T193000
DTSTAMP:20260423T065822Z
URL:https://albverein.net/termine/mundartfeschd-uff-dr-burg-derneck/
SUMMARY:Mundartfeschd uff dr Burg Derneck - Wanderheim Burg Derneck - 18 Ju
 li 26 17:00
DESCRIPTION:Zum zweiten Mal gastieren wir mit dem Mundartfeschd auf der Bur
 g Derneck. Wer beim ersten Mal dabei war\, weiß\, wie toll die Kulisse un
 d das Ambiente im Innenhof der Derneck sind.\n\nMit Claudia Pohel und Matt
 hias Flad sind auch dieses Mal 2 hochkarätige Künstler am Start.\n\n»Go
 ht´s no?«\n\nSeit fast 35 Jahren als Liedermacherin auf der Bühne\, ein
 e »vielsaitige« (Gitarren\,Git-Synthesizer\, Harfe) und vielseitige Allr
 ound-Künstlerin unterschiedlicher Genres\, besonders erfrischend und sehr
  erheiternd in ihrer modernen ART Mundart.\n\n„Auf dr Alb isch halt sche
 e“\n\nMatthias Flad verarbeitet die vielfältigen Erlebnisse seiner bewe
 gten Biographie in frechen\, schwäbischen Texten\, die zum Lachen\, Nachd
 enken und Genießen anregen.Herzen werden berührt und Bäuche wackeln\, w
 enn er sie rockig\,groovig\, romantisch oder jazzig am Klavier oder an der
  Gitarre vorträgt.\n\nKarten für 15\,00 Euro können ab sofort reservier
 t werden unter hmueller@schwaebischer-albverein.de\n\nPlakat fürs Mundart
 feschd\n\nblsav_2_2026_2_VORAB
CATEGORIES:Heimat und Kultur
LOCATION:Wanderheim Burg Derneck\, Schlosshalde 1\, Hayingen\, Baden-Württ
 emberg\, 72534\, Deutschland
GEO:48.30943930091257;9.497204240380825
X-APPLE-STRUCTURED-LOCATION;VALUE=URI;X-ADDRESS=Schlosshalde 1\, Hayingen\,
  Baden-Württemberg\, 72534\, Deutschland;X-APPLE-RADIUS=100;X-TITLE=Wande
 rheim Burg Derneck:geo:48.30943930091257,9.497204240380825
END:VEVENT
BEGIN:VTIMEZONE
TZID:Europe/Berlin
X-LIC-LOCATION:Europe/Berlin
BEGIN:DAYLIGHT
DTSTART:20260329T030000
TZOFFSETFROM:+0100
TZOFFSETTO:+0200
TZNAME:CEST
END:DAYLIGHT
END:VTIMEZONE
END:VCALENDAR