BEGIN:VCALENDAR
VERSION:2.0
PRODID:-//wp-events-plugin.com//5.99912//EN
TZID:Europe/Berlin
X-WR-TIMEZONE:Europe/Berlin
BEGIN:VEVENT
UID:1-11152@albverein.net
DTSTART;TZID=Europe/Berlin;VALUE=DATE:20260710
DTEND;TZID=Europe/Berlin;VALUE=DATE:20260713
DTSTAMP:20251205T101351Z
URL:https://albverein.net/termine/geh-mal-hin-alles-drin-workshopwochenend
 e/
SUMMARY:Geh mal hin - alles drin Workshopwochenende - Bauernschule Bad Wald
 see - 10 Juli 26 00:00
DESCRIPTION:Das beliebte Workshopwochenende "Geh mal hin - alles drin" ist 
 dieses Jahr wieder am Start mit tollen Themen aus vielen Fachbereichen. De
 n ausführlichen Flyer finden sie hier\n\ngeh mal hin 2026
CATEGORIES:der Verein
LOCATION:Bauernschule Bad Waldsee\, Frauenbergstraße 15\, Bad Waldsee\,  8
 8339 \, Deutschland
GEO:47.91809;9.754390000000058
X-APPLE-STRUCTURED-LOCATION;VALUE=URI;X-ADDRESS=Frauenbergstraße 15\, Bad 
 Waldsee\,  88339 \, Deutschland;X-APPLE-RADIUS=100;X-TITLE=Bauernschule Ba
 d Waldsee:geo:47.91809,9.754390000000058
END:VEVENT
BEGIN:VTIMEZONE
TZID:Europe/Berlin
X-LIC-LOCATION:Europe/Berlin
BEGIN:DAYLIGHT
DTSTART:20260329T030000
TZOFFSETFROM:+0100
TZOFFSETTO:+0200
TZNAME:CEST
END:DAYLIGHT
END:VTIMEZONE
END:VCALENDAR