BEGIN:VCALENDAR
VERSION:2.0
PRODID:-//wp-events-plugin.com//5.99912//EN
TZID:Europe/Berlin
X-WR-TIMEZONE:Europe/Berlin
BEGIN:VEVENT
UID:1-10910@albverein.net
DTSTART;TZID=Europe/Berlin:20261011T140000
DTEND;TZID=Europe/Berlin:20261011T150000
DTSTAMP:20250812T125142Z
URL:https://albverein.net/termine/gedenkfeier-hohe-warte-4/
SUMMARY:Gedenkfeier Hohe Warte - Hohe Warte - 11 Oktober 26 14:00
DESCRIPTION:Zur jährlichen Gedenkfeier unserer Verstorbenen laden wir herz
 lich ein.
CATEGORIES:der Verein
LOCATION:Hohe Warte\, Hohe Warte\, St. Johann\, Deutschland
GEO:48.4923732;9.331269700000007
X-APPLE-STRUCTURED-LOCATION;VALUE=URI;X-ADDRESS=Hohe Warte\, St. Johann\, D
 eutschland;X-APPLE-RADIUS=100;X-TITLE=Hohe Warte:geo:48.4923732,9.33126970
 0000007
END:VEVENT
BEGIN:VTIMEZONE
TZID:Europe/Berlin
X-LIC-LOCATION:Europe/Berlin
BEGIN:DAYLIGHT
DTSTART:20260329T030000
TZOFFSETFROM:+0100
TZOFFSETTO:+0200
TZNAME:CEST
END:DAYLIGHT
END:VTIMEZONE
END:VCALENDAR