BEGIN:VCALENDAR
VERSION:2.0
PRODID:-//wp-events-plugin.com//5.99912//EN
TZID:Europe/Berlin
X-WR-TIMEZONE:Europe/Berlin
BEGIN:VEVENT
UID:1-11154@albverein.net
DTSTART;TZID=Europe/Berlin:20260927T110000
DTEND;TZID=Europe/Berlin:20260927T200000
DTSTAMP:20251127T142856Z
URL:https://albverein.net/termine/11-albvereinstag-auf-dem-cannstatter-vol
 kfest/
SUMMARY:11. Albvereinstag auf dem Cannstatter Volkfest - Wasen - 27 Septemb
 er 26 11:00
DESCRIPTION:&nbsp\;\n\nUnter neuer Leitung von Familie Weller\, aber im bek
 annten „Wellers Klauss und Klauss Dinkelacker Festzelt“\, findet am So
 nntag\, 27. September 2026\, zum 11. Mal das Treffen vieler Albvereinler a
 uf dem Wasen statt. Exklusiv für Mitglieder des Schwäbischen Albvereins 
 gibt es am Sonntag Marken im Wert von 45 Euro für 30 Euro. Das Bestellfor
 mular findet Sie hier\n\nP25411-WELLERS-Wasen-Anschreiben-Albverein-v2-MM
CATEGORIES:der Verein
LOCATION:Wasen\, Mercedesstr.\, Stuttgart\, Deutschland
GEO:48.7942514;9.22481479999999
X-APPLE-STRUCTURED-LOCATION;VALUE=URI;X-ADDRESS=Mercedesstr.\, Stuttgart\, 
 Deutschland;X-APPLE-RADIUS=100;X-TITLE=Wasen:geo:48.7942514,9.224814799999
 99
END:VEVENT
BEGIN:VTIMEZONE
TZID:Europe/Berlin
X-LIC-LOCATION:Europe/Berlin
BEGIN:DAYLIGHT
DTSTART:20260329T030000
TZOFFSETFROM:+0100
TZOFFSETTO:+0200
TZNAME:CEST
END:DAYLIGHT
END:VTIMEZONE
END:VCALENDAR